BEGIN:VCALENDAR
VERSION:2.0
PRODID:-//ERT//LNF26//DE
VERSION:2.0
BEGIN:VEVENT
UID:station_5280_20260424T150000Z
DTSTAMP:20260422T211100Z
URL:https://ert.langenachtderforschung.at/station/5280
DTSTART:20260424T150000Z
DTEND:20260424T160000Z
SUMMARY:[LNF26] Gier, Angst, Panik: Wie lassen sich typische Fehler beim Investieren vermeiden?
DESCRIPTION:Auf Einzelaktien setzen oder den perfekten Moment suchen – so vermeidet man die häufigsten Fehler beim Investieren
LOCATION:Welthandelsplatz 1 TC, 1020 Wien
GEO:48.21250068;16.41016927
END:VEVENT
END:VCALENDAR