BEGIN:VCALENDAR
VERSION:2.0
PRODID:-//ERT//LNF26//DE
VERSION:2.0
BEGIN:VEVENT
UID:station_5281_20260424T150000Z
DTSTAMP:20260423T002000Z
URL:https://ert.langenachtderforschung.at/station/5281
DTSTART:20260424T150000Z
DTEND:20260424T210000Z
SUMMARY:[LNF26] Was ist eigentlich Armut?
DESCRIPTION:Was ist Armut – und wie kann man sie messen? Mit diesen Fragen beschäftigt sich Karin Heitzmann. Denn Armut hat viele Facetten und kommt in ganz unterschiedlichen Ausprägungen daher, auch in einem reichen Land wie Österreich.
LOCATION:Online
END:VEVENT
END:VCALENDAR