BEGIN:VCALENDAR
VERSION:2.0
PRODID:-//ERT//LNF26//DE
VERSION:2.0
BEGIN:VEVENT
UID:station_5322_20260424T150000Z
DTSTAMP:20260420T004500Z
URL:https://ert.langenachtderforschung.at/station/5322
DTSTART:20260424T150000Z
DTEND:20260424T152000Z
SUMMARY:[LNF26] Bauen mit Ziegeln und Pilzen?
DESCRIPTION:Hast du schon einmal von einem Pilzhaus wie im Märchen geträumt? Ganz so sieht es in Wirklichkeit zwar nicht aus, aber am Institut für Architektur u. Medien der TU Graz experimentieren Forscher:innen mit dem Einsatz von Ton und Pilzen als alternativen Baumaterialien. Hier kannst du dir ansehen, wie große 3D-Drucker unterschiedliche Bauteile aus Ton fertigen und welche ungewöhnlichen Formen darüber hinaus möglich sind
LOCATION:Kronesgasse 5, 8010 Graz
GEO:47.06563440;15.44865650
END:VEVENT
END:VCALENDAR