BEGIN:VCALENDAR
VERSION:2.0
PRODID:-//ERT//LNF26//DE
VERSION:2.0
BEGIN:VEVENT
UID:station_5392_20260324T160000Z
DTSTAMP:20260419T130400Z
URL:https://ert.langenachtderforschung.at/station/5392
DTSTART:20260324T160000Z
DTEND:20260424T210000Z
SUMMARY:[LNF26] Wie helfen Recht und Ethik dabei, gute Enscheidungen zu treffen?
DESCRIPTION:Was ist richtig, was ist falsch; was ist erlaubt, was ist verboten? Bei uns können Sie selbst ausprobieren, wie man knifflige ethische und rechtliche Probleme löst. Wir schauen uns an, wie gutes Handeln aussieht, wenn die Antworten nicht schwarz oder weiß sind. Ein Test hilft Ihnen dabei zu erkennen, wie ethisch aufgeklärt und rechtlich informiert Sie sind.
LOCATION:Innrain 52, 6020 Innsbruck
GEO:47.26306350;11.38418912
END:VEVENT
END:VCALENDAR