BEGIN:VCALENDAR
VERSION:2.0
PRODID:-//ERT//LNF26//DE
VERSION:2.0
BEGIN:VEVENT
UID:station_5396_20260324T160000Z
DTSTAMP:20260419T142900Z
URL:https://ert.langenachtderforschung.at/station/5396
DTSTART:20260324T160000Z
DTEND:20260424T210000Z
SUMMARY:[LNF26] Wie erforscht man gesundes Altern? Interaktive Einblicke in die Forschung der Universität Innsbruck.
DESCRIPTION:Wie bleiben wir fit im Kopf? Gehen Sie der Altersforschung auf den Grund! An unseren Stationen blicken Sie hinter die Kulissen der Universität Innsbruck und probieren Forschung selbst aus. Testen Sie Ihr Gedächtnis oder entdecken Sie, wie wir mit moderner Technik Augenbewegungen messen.
LOCATION:Universitätsstraße 5-7, 6020 Innsbruck
GEO:47.26899430;11.39726830
END:VEVENT
END:VCALENDAR