BEGIN:VCALENDAR
VERSION:2.0
PRODID:-//ERT//LNF26//DE
VERSION:2.0
BEGIN:VEVENT
UID:station_5402_20260424T193000Z
DTSTAMP:20260420T003200Z
URL:https://ert.langenachtderforschung.at/station/5402
DTSTART:20260424T193000Z
DTEND:20260424T203000Z
SUMMARY:[LNF26] ScienceTalk um 21:30 Uhr Kommunikation: Was kann ich heute noch glauben?
DESCRIPTION:Fraktale Medienlandschaft, Wandel der Werte, Fact & Fake, Wissenschaftskommunikation\n(Gesellschaft & Wandel)
LOCATION:Lendkai 17, 8010 Graz
GEO:47.07247980;15.43376940
END:VEVENT
END:VCALENDAR