BEGIN:VCALENDAR
VERSION:2.0
PRODID:-//ERT//LNF26//DE
VERSION:2.0
BEGIN:VEVENT
UID:station_5410_20260324T160000Z
DTSTAMP:20260420T003100Z
URL:https://ert.langenachtderforschung.at/station/5410
DTSTART:20260324T160000Z
DTEND:20260424T210000Z
SUMMARY:[LNF26] Wie können Roboter bei Demenz helfen?
DESCRIPTION:Im EU-Projekt LETHE sind auch Pflegeroboter, sogenannte TEMI, in Verwendung. Diese können mit den Patient:innen kommunizieren und auch einfache Hol- und Bringdienste übernehmen. Auf diese Art sollen sie bei der Demenzprävention unterstützen.
LOCATION:Eggenberger Allee 11+13, Eckertstraße 7a+30i, 8020 Graz
GEO:47.06940355;15.40670826
END:VEVENT
END:VCALENDAR