BEGIN:VCALENDAR
VERSION:2.0
PRODID:-//ERT//LNF26//DE
VERSION:2.0
BEGIN:VEVENT
UID:station_5455_20260324T160000Z
DTSTAMP:20260420T003000Z
URL:https://ert.langenachtderforschung.at/station/5455
DTSTART:20260324T160000Z
DTEND:20260424T210000Z
SUMMARY:[LNF26] Wie kann der Therapie-Erfolg nach einer Knie-OP mithilfe von IT beschleunigt werden?
DESCRIPTION:Im Projekt KneeHa wurden Krücken mit Sensoren ausgestattet, welche die Belastung des Knies berechnen und auf einem Smartphone sichtbar machen. So kann der:die Patient:in die Belastung des Knies optimal an den Therapieplan anpassen und selbstständig im Auge behalten. Ein schnellerer Therapieerfolg ist die Folge.
LOCATION:Eggenberger Allee 11+13, Eckertstraße 7a+30i, 8020 Graz
GEO:47.06940355;15.40670826
END:VEVENT
END:VCALENDAR