BEGIN:VCALENDAR
VERSION:2.0
PRODID:-//ERT//LNF26//DE
VERSION:2.0
BEGIN:VEVENT
UID:station_5509_20260324T160000Z
DTSTAMP:20260420T194100Z
URL:https://ert.langenachtderforschung.at/station/5509
DTSTART:20260324T160000Z
DTEND:20260424T210000Z
SUMMARY:[LNF26] Wie werden Kunstwerke für eine Präsentation im Museum vorbereitet?
DESCRIPTION:Die Konservierung und Restaurierung der Landessammlung Niederösterreich gibt Einblick in die tägliche Arbeit mit Kunstwerken. Anhand von Fallbeispielen werden Schadensbilder erklärt und Maßnahmen zum Objekterhalt vorgestellt. Wie schließt man eigentlich eine Fehlstelle innerhalb der Malschicht? Probiere es an der Mitmachstation aus!
LOCATION:Kulturbezirk 5, 3100 St. Pölten
GEO:48.20026944;15.63139111
END:VEVENT
END:VCALENDAR