BEGIN:VCALENDAR
VERSION:2.0
PRODID:-//ERT//LNF26//DE
VERSION:2.0
BEGIN:VEVENT
UID:station_5520_20260324T160000Z
DTSTAMP:20260421T015900Z
URL:https://ert.langenachtderforschung.at/station/5520
DTSTART:20260324T160000Z
DTEND:20260424T210000Z
SUMMARY:[LNF26] Geschichte(n) aus erster Hand – Was kann ich in einem Archiv finden?
DESCRIPTION:Das Niederösterreichische Landesarchiv verwahrt Urkunden, Handschriften und Akten aus 900 Jahren. Wir schützen diese kostbaren Dokumente vor Beschädigung und Vernichtung, damit sie auch künftigen Generationen zur Verfügung stehen. Bei dieser Station können Sie mittelalterliche \nUrkunden kennenlernen, erfahren wie eine Stadt vor 200 Jahren ausgesehen hat und lernen, wie man Briefe versiegelt und Archivalien verpackt.
LOCATION:Schlossgasse 1, 2151 Asparn/Zaya
GEO:48.58882465;16.49122819
END:VEVENT
END:VCALENDAR