BEGIN:VCALENDAR
VERSION:2.0
PRODID:-//ERT//LNF26//DE
VERSION:2.0
BEGIN:VEVENT
UID:station_5533_20260324T160000Z
DTSTAMP:20260420T193800Z
URL:https://ert.langenachtderforschung.at/station/5533
DTSTART:20260324T160000Z
DTEND:20260424T210000Z
SUMMARY:[LNF26] Niederösterreicher:innen in der Neuen Welt (1938-1945)?
DESCRIPTION:Was haben Skisoldaten in der US-Armee, die verführerische Stimme des US-Kriegsgeheimdiensts und Habsburg‘sche Kämpfer im „Österreich-Bataillon“ gemeinsam?\nBei allen handelte es sich um vertriebene Niederösterreicher:innen, die sich gegen den Nationalsozialismus stellten. \nDiese interaktive Station erzählt ihre persönlichen Flucht- und Kriegsgeschichten und taucht tief ein in das transatlantische Niederösterreich!
LOCATION:Kulturbezirk 5, 3100 St. Pölten
GEO:48.20026944;15.63139111
END:VEVENT
END:VCALENDAR