BEGIN:VCALENDAR
VERSION:2.0
PRODID:-//ERT//LNF26//DE
VERSION:2.0
BEGIN:VEVENT
UID:station_5537_20260324T160000Z
DTSTAMP:20260420T180000Z
URL:https://ert.langenachtderforschung.at/station/5537
DTSTART:20260324T160000Z
DTEND:20260424T210000Z
SUMMARY:[LNF26] Wie veränderte sich das Leben auf dem Land?
DESCRIPTION:Wie Menschen arbeiteten und zusammenlebten, was sie produzierten und wie mobil sie waren – all das hat eine Geschichte und veränderte sich ständig. Ein Blick zurück auf das Leben in ländlichen Regionen Niederösterreichs zeigt uns ein „unbekanntes Land“ abseits der vertrauten Vorstellungen. Die Historiker:innen des IGLR zeigen mit Ratespielen, Bildern und Filmen, wie sie arbeiten und wie Forschungsfragen entstehen.
LOCATION:Kulturbezirk 5, 3100 St. Pölten
GEO:48.20026944;15.63139111
END:VEVENT
END:VCALENDAR