BEGIN:VCALENDAR
VERSION:2.0
PRODID:-//ERT//LNF26//DE
VERSION:2.0
BEGIN:VEVENT
UID:station_5538_20260324T160000Z
DTSTAMP:20260424T151900Z
URL:https://ert.langenachtderforschung.at/station/5538
DTSTART:20260324T160000Z
DTEND:20260424T200000Z
SUMMARY:[LNF26] Wissenschaft spürbar machen – aber wie gelingt das im Studium?
DESCRIPTION:Der DPU Journal Club of Science wurde 2022 von Studierenden mit dem Ziel gegründet, wissenschaftliches Arbeiten und Denken zu fördern. Zu den bereits veröffentlichten Projekten zählen die Vermessung der Sella turcica sowie eine Social-Media-Detox-Studie. An unserer Station vermitteln wir die Unterscheidung zwischen Wissenschaft und Pseudowissenschaft anhand eines interaktiven Mini-Quiz für Kinder und Jugendliche.
LOCATION:Förthofstraße 2 - 4, 3500 Krems-Stein
GEO:48.39900976;15.57130158
END:VEVENT
END:VCALENDAR