BEGIN:VCALENDAR
VERSION:2.0
PRODID:-//ERT//LNF26//DE
VERSION:2.0
BEGIN:VEVENT
UID:station_5539_20260324T160000Z
DTSTAMP:20260424T151900Z
URL:https://ert.langenachtderforschung.at/station/5539
DTSTART:20260324T160000Z
DTEND:20260424T200000Z
SUMMARY:[LNF26] Wie entsteht digitale Zahnmedizin von der Materialprüfung bis zum 3D-Druck?
DESCRIPTION:Besucher:innen können modernste Verfahren der digitalen Zahnmedizin hautnah erleben: Materialprüfung an der ZwickRoell Z010 mit einem 3-Punkt-Biegeversuch bei 3D-gedruckten Kronenmaterialien, Bruchversuche verschiedener dentaler Werkstoffe sowie einen vollständigen 3D-Druck-Workflow in der Zahnmedizin. Außerdem wird ein Modellscan mit dem neuesten Intraoralscanner 3Shape Trios 6 präsentiert – und vieles mehr.
LOCATION:Förthofstraße 2 - 4, 3500 Krems-Stein
GEO:48.39900976;15.57130158
END:VEVENT
END:VCALENDAR