BEGIN:VCALENDAR
VERSION:2.0
PRODID:-//ERT//LNF26//DE
VERSION:2.0
BEGIN:VEVENT
UID:station_5541_20260324T160000Z
DTSTAMP:20260422T190500Z
URL:https://ert.langenachtderforschung.at/station/5541
DTSTART:20260324T160000Z
DTEND:20260424T203000Z
SUMMARY:[LNF26] Die Farbe Grün: Woran erkennen wir ein umweltfreundliches Produkt?
DESCRIPTION:An der Station erfahren Sie, warum viele Produkte grün verpackt sind und ob diese Farbe wirklich für Umweltfreundlichkeit steht. Sie lernen, wie Farben das Kaufverhalten beeinflussen, welche Strategien hinter „grünen“ Produkten stecken und inwieweit nachhaltige Verpackungen ihren Versprechen gerecht werden. Interaktive Elemente laden ein, Wissen zu testen und Werbebotschaften kritisch zu hinterfragen.
LOCATION:Zeiselgraben 4, 3250 Wieselburg
GEO:48.13899125;15.13896838
END:VEVENT
END:VCALENDAR