BEGIN:VCALENDAR
VERSION:2.0
PRODID:-//ERT//LNF26//DE
VERSION:2.0
BEGIN:VEVENT
UID:station_5546_20260324T160000Z
DTSTAMP:20260424T151600Z
URL:https://ert.langenachtderforschung.at/station/5546
DTSTART:20260324T160000Z
DTEND:20260424T200000Z
SUMMARY:[LNF26] Qualitative Forschung beginnt mit qualitativer Lehre
DESCRIPTION:Hier können Interessierte mit Hilfe einer Navigationshilfe versuchen zwei Implantatbohrungen parallel in ein Modell zu setzen. Interessante Informationen zu neusten Erkenntnissen aus der Implantologie.
LOCATION:Förthofstraße 2 - 4, 3500 Krems-Stein
GEO:48.39900976;15.57130158
END:VEVENT
END:VCALENDAR