BEGIN:VCALENDAR
VERSION:2.0
PRODID:-//ERT//LNF26//DE
VERSION:2.0
BEGIN:VEVENT
UID:station_5547_20260324T160000Z
DTSTAMP:20260422T212300Z
URL:https://ert.langenachtderforschung.at/station/5547
DTSTART:20260324T160000Z
DTEND:20260424T204500Z
SUMMARY:[LNF26] Kunststoffe - Umweltzerstörer oder spannendes Material?
DESCRIPTION:Wie werden Kunststoffe gesammelt, sortiert und wiederverwendet? In unserer Mitmachstation können Besucher:innen selbst Kunststoffe sortieren und zu neuen Werkstücken recyclen.
LOCATION:Johannes-Gutenberg-Straße 3 Innovation Lab und Area27 (J. Gutenberg-Straße 5), 2700 Wiener Neustadt
GEO:47.83811166;16.24962151
END:VEVENT
END:VCALENDAR