BEGIN:VCALENDAR
VERSION:2.0
PRODID:-//ERT//LNF26//DE
VERSION:2.0
BEGIN:VEVENT
UID:station_5548_20260324T160000Z
DTSTAMP:20260424T142700Z
URL:https://ert.langenachtderforschung.at/station/5548
DTSTART:20260324T160000Z
DTEND:20260424T200000Z
SUMMARY:[LNF26] Keime im Dunklen - Hygiene im Spotlight
DESCRIPTION:Wie sauber sind deine Hände? An unserer Hygienestation wird die Händedesinfektion sichtbar gemacht: Erst desinfizieren, dann zeigt das Schwarzlicht, wo noch Stellen vergessen wurden. So machen wir unsichtbare Keime sichtbar und zeigen mit einem einfachen Experiment, warum gründliche Händehygiene wirkt. Kurz mitmachen, staunen - und mit sauberen Händen weiterforschen.
LOCATION:Viktor Kaplan Strasse 2 TFZ, 2700 Wiener Neustadt
GEO:47.83725022;16.25247860
END:VEVENT
END:VCALENDAR