BEGIN:VCALENDAR
VERSION:2.0
PRODID:-//ERT//LNF26//DE
VERSION:2.0
BEGIN:VEVENT
UID:station_5553_20260324T160000Z
DTSTAMP:20260422T191200Z
URL:https://ert.langenachtderforschung.at/station/5553
DTSTART:20260324T160000Z
DTEND:20260424T203000Z
SUMMARY:[LNF26] Welche neuen Wege des Genusses gibt es jenseits der Tradition?
DESCRIPTION:Genuss verändert sich und bleibt doch vertraut. Pflanzen erobern unsere Teller, nicht als Ersatz, sondern als eigenständige Quelle für Genuss und Kreativität. Alkoholfreie Getränke zeigen uns, dass bewusster Genuss nichts mit Verzicht, sondern mit Vielfalt und Kreativität zu tun hat. Lernen Sie innovative, alternative Produktkonzepte kennen, die unsere Esskultur neu interpretieren und überzeugen.
LOCATION:Zeiselgraben 4, 3250 Wieselburg
GEO:48.13899125;15.13896838
END:VEVENT
END:VCALENDAR