BEGIN:VCALENDAR
VERSION:2.0
PRODID:-//ERT//LNF26//DE
VERSION:2.0
BEGIN:VEVENT
UID:station_5555_20260324T160000Z
DTSTAMP:20260422T190900Z
URL:https://ert.langenachtderforschung.at/station/5555
DTSTART:20260324T160000Z
DTEND:20260424T203000Z
SUMMARY:[LNF26] Warum ist Energiesparen nicht dasselbe wie Stromsparen? Was genau ist Energie und wie lässt sich ihre Nutzung effizienter gestalten?
DESCRIPTION:In diesem Workshop schauen wir uns an, wie Energie im Haus fließt: Wir messen den Verbrauch, spüren Stromfresser auf und überlegen, wie sich Energieflüsse steuern lassen, um den Bedarf zu senken. Außerdem untersuchen wir eine kombinierte PV- und Solarthermieanlage und zeigen, wie sich der Stromertrag mit steigender Temperatur verschlechtert und durch Kühlung wieder verbessert.
LOCATION:Zeiselgraben 4, 3250 Wieselburg
GEO:48.13899125;15.13896838
END:VEVENT
END:VCALENDAR