BEGIN:VCALENDAR
VERSION:2.0
PRODID:-//ERT//LNF26//DE
VERSION:2.0
BEGIN:VEVENT
UID:station_5556_20260324T160000Z
DTSTAMP:20260422T210300Z
URL:https://ert.langenachtderforschung.at/station/5556
DTSTART:20260324T160000Z
DTEND:20260424T203000Z
SUMMARY:[LNF26] Wie beeinflussen uns subtile Hinweise in Virtual Reality – ohne dass wir es merken?
DESCRIPTION:Wie wirken kleine, kaum wahrnehmbare Hinweise – sogenannte „Nudges“ – auf unser Verhalten in virtuellen Welten? An dieser Station finden wir heraus, ob man Menschen in VR sanft lenken kann, ohne dass sie dabei das Gefühl für die virtuelle Welt verlieren. Die Forschung verbindet Psychologie, Design und Technologie auf spannende Weise.
LOCATION:Zeiselgraben 4, 3250 Wieselburg
GEO:48.13899125;15.13896838
END:VEVENT
END:VCALENDAR