BEGIN:VCALENDAR
VERSION:2.0
PRODID:-//ERT//LNF26//DE
VERSION:2.0
BEGIN:VEVENT
UID:station_5557_20260324T160000Z
DTSTAMP:20260422T191400Z
URL:https://ert.langenachtderforschung.at/station/5557
DTSTART:20260324T160000Z
DTEND:20260424T203000Z
SUMMARY:[LNF26] Was würde dein T-Shirt sagen, wenn es sprechen könnte? - Talking Fashion
DESCRIPTION:An dieser Station bringen wir Kleidung zum Sprechen. Wir schauen genau hin, was das Lieblings-Shirt sagen würde, wenn es sprechen könnte. Wir studieren Etiketten und dechiffrieren die Codes hinter den Zeichen. Wir schauen auf Marke und Material und übersetzen, welche Botschaft wir beim Tragen von Kleidungsstücken vermitteln.
LOCATION:Zeiselgraben 4, 3250 Wieselburg
GEO:48.13899125;15.13896838
END:VEVENT
END:VCALENDAR