BEGIN:VCALENDAR
VERSION:2.0
PRODID:-//ERT//LNF26//DE
VERSION:2.0
BEGIN:VEVENT
UID:station_5563_20260324T160000Z
DTSTAMP:20260424T102400Z
URL:https://ert.langenachtderforschung.at/station/5563
DTSTART:20260324T160000Z
DTEND:20260424T203000Z
SUMMARY:[LNF26] Was lernt uns die Wildnis?
DESCRIPTION:Wissen aus der Wildnis.\nDas Wildnisgebiet Dürrenstein-Lassingtal und das Haus der Wildnis zeigen gemeinsam, wie Forschung im UNESCO-Weltnaturerbe funktioniert. Entdecken Sie, welche seltenen Arten hier leben, wie alles miteinander vernetzt ist und warum das Wissen aus der Wildnis für uns alle so wichtig ist.
LOCATION:Zeiselgraben 4, 3250 Wieselburg
GEO:48.13899125;15.13896838
END:VEVENT
END:VCALENDAR