BEGIN:VCALENDAR
VERSION:2.0
PRODID:-//ERT//LNF26//DE
VERSION:2.0
BEGIN:VEVENT
UID:station_5565_20260324T160000Z
DTSTAMP:20260422T191400Z
URL:https://ert.langenachtderforschung.at/station/5565
DTSTART:20260324T160000Z
DTEND:20260424T203000Z
SUMMARY:[LNF26] Wie erfährt unsere Jugend mehr über die Relevanz der Bienen für unsere Gesellschaft?
DESCRIPTION:Unser Projekt sensibilisiert Schülerinnen und Schüler in Europa für die Bedeutung der Bienen in unserer Gesellschaft. Durch eine immersive, VR-basierte und spielerische Lernerfahrung soll Wissen über Bienenarten, Volksaufbau, Entwicklung, Gefahren und Kommunikation vermittelt und das Bewusstsein für den Erhalt dieser wichtigen Lebewesen gestärkt werden.
LOCATION:Zeiselgraben 4, 3250 Wieselburg
GEO:48.13899125;15.13896838
END:VEVENT
END:VCALENDAR