BEGIN:VCALENDAR
VERSION:2.0
PRODID:-//ERT//LNF26//DE
VERSION:2.0
BEGIN:VEVENT
UID:station_5566_20260324T160000Z
DTSTAMP:20260422T191000Z
URL:https://ert.langenachtderforschung.at/station/5566
DTSTART:20260324T160000Z
DTEND:20260424T204500Z
SUMMARY:[LNF26] Tatort Küche – Wie kommst du mit einfachen Tricks der Lebensmittelverschwendung auf die Schliche?
DESCRIPTION:Viel zu viele Lebensmittel und Speisereste werden weggeworfen, das belastet das Budget jedes Einzelnen und die Umwelt. Im eigenen Haushalt, am „Tatort Küche“ hat es jeder selbst in der Hand, der Lebensmittelverschwendung entgegenzuwirken. Das Sinnexperiment zeigt dir, wie du mithilfe deiner Sinne prüfst, ob das Joghurt noch genießbar ist. Tricks & Ideen für Einkauf, Lagerung und Verarbeitung.
LOCATION:Zeiselgraben 4, 3250 Wieselburg
GEO:48.13899125;15.13896838
END:VEVENT
END:VCALENDAR