BEGIN:VCALENDAR
VERSION:2.0
PRODID:-//ERT//LNF26//DE
VERSION:2.0
BEGIN:VEVENT
UID:station_5567_20260324T160000Z
DTSTAMP:20260422T192800Z
URL:https://ert.langenachtderforschung.at/station/5567
DTSTART:20260324T160000Z
DTEND:20260424T203000Z
SUMMARY:[LNF26] Wie spricht ein Auto mit Licht?
DESCRIPTION:ZKW erforscht, wie Fahrzeuge ihre Umgebung erkennen und Informationen mit Licht nach innen und außen kommunizieren. Menschen und Gefahren werden sichtbar gemacht und andere Verkehrsteilnehmer gezielt gewarnt. So entwickelt ZKW innovative Lichtsysteme für mehr Sicherheit im Straßenverkehr.
LOCATION:Zeiselgraben 4, 3250 Wieselburg
GEO:48.13899125;15.13896838
END:VEVENT
END:VCALENDAR