BEGIN:VCALENDAR
VERSION:2.0
PRODID:-//ERT//LNF26//DE
VERSION:2.0
BEGIN:VEVENT
UID:station_5587_20260324T160000Z
DTSTAMP:20260424T152200Z
URL:https://ert.langenachtderforschung.at/station/5587
DTSTART:20260324T160000Z
DTEND:20260424T200000Z
SUMMARY:[LNF26] Nano- und Mikroplastik im Körper – Risiko für unsere Gesundheit?
DESCRIPTION:Erleben Sie die Reise winziger Kunststoffpartikel, von alltäglichen Produkten bis in den menschlichen Körper. Unsere Forschung zeigt, wie Mikro- und Nanoplastik mit Blut und Organen interagieren. Sehen Sie, wie verschiedene Partikelgrößen Blutzellen und Organfunktionen beeinflussen. Entdecken Sie Laborexperimente, stellen Sie Fragen und erleben Sie Wissenschaft für Groß und Klein.
LOCATION:Förthofstraße 2 - 4, 3500 Krems-Stein
GEO:48.39900976;15.57130158
END:VEVENT
END:VCALENDAR