BEGIN:VCALENDAR
VERSION:2.0
PRODID:-//ERT//LNF26//DE
VERSION:2.0
BEGIN:VEVENT
UID:station_5589_20260324T160000Z
DTSTAMP:20260424T102400Z
URL:https://ert.langenachtderforschung.at/station/5589
DTSTART:20260324T160000Z
DTEND:20260424T204500Z
SUMMARY:[LNF26] Wie erlebt man Mechatronik &amp; KI – von Robotern bis Mixed Reality?
DESCRIPTION:Diese Station bietet einen faszinierenden Einblick in aktuelle Technologiefelder wie Robotik, Augmented Reality und Künstliche Intelligenz. Interessierte können erleben, wie sich moderne Mechatronik in verschiedenen Formen entfaltet – von autonomen Bewegungssystemen über immersive digitale Visualisierungen bis hin zu intelligenten, multimodalen Interaktionen.
LOCATION:Viktor Kaplan Strasse 2 TFZ, 2700 Wiener Neustadt
GEO:47.83725022;16.25247860
END:VEVENT
END:VCALENDAR