BEGIN:VCALENDAR
VERSION:2.0
PRODID:-//ERT//LNF26//DE
VERSION:2.0
BEGIN:VEVENT
UID:station_559_20260324T160000Z
DTSTAMP:20260420T193700Z
URL:https://ert.langenachtderforschung.at/station/559
DTSTART:20260324T160000Z
DTEND:20260424T210000Z
SUMMARY:[LNF26] Infopoint „City Nature Challenge“
DESCRIPTION:Alle Infos für die Teilnahme an der City Nature Challenge
LOCATION:Kulturbezirk 5, 3100 St. Pölten
GEO:48.20026944;15.63139111
END:VEVENT
END:VCALENDAR