BEGIN:VCALENDAR
VERSION:2.0
PRODID:-//ERT//LNF26//DE
VERSION:2.0
BEGIN:VEVENT
UID:station_5590_20260324T160000Z
DTSTAMP:20260424T085800Z
URL:https://ert.langenachtderforschung.at/station/5590
DTSTART:20260324T160000Z
DTEND:20260424T204500Z
SUMMARY:[LNF26] Hat das europäische Gasnetz eine Zukunft in der klimaneutralen Energieversorgung?
DESCRIPTION:Europa steigt aus Erdgas aus - doch was wird aus den Leitungen? In Baumgarten an der March kreuzen sich zentrale Energieachsen. Künftig könnte hier klimafreundlicher Wasserstoff statt Erdgas fließen. Wir zeigen, wie aus einer fossilen Drehscheibe das Herzstück eines europäischen Wasserstoffnetzes werden könnte.
LOCATION:Viktor Kaplan Strasse 2 TFZ, 2700 Wiener Neustadt
GEO:47.83725022;16.25247860
END:VEVENT
END:VCALENDAR