BEGIN:VCALENDAR
VERSION:2.0
PRODID:-//ERT//LNF26//DE
VERSION:2.0
BEGIN:VEVENT
UID:station_5598_20260324T160000Z
DTSTAMP:20260424T154100Z
URL:https://ert.langenachtderforschung.at/station/5598
DTSTART:20260324T160000Z
DTEND:20260424T200000Z
SUMMARY:[LNF26] Ethno &amp; Tropen-Zahnmedizin: Was unterscheidet dieses neue Fachgebiet von anderen humanmedizinischen Disziplinen in Österreich?
DESCRIPTION:Im Rahmen einer zur Station gehörenden Ausstellung werden großflächige Fotos, kurze Videos sowie einige Ethnographica mit interdisziplinärem und ethnomedizinischem Bezug unter Berücksichtigung kultureller Besonderheiten bei indigenen Völkern in Neuguinea, Amazonien und Afrika präsentiert und die aktuelle wissenschaftliche Bedeutung der Ethno-Zahnmedizin erläutert.
LOCATION:Förthofstraße 2 - 4, 3500 Krems-Stein
GEO:48.39900976;15.57130158
END:VEVENT
END:VCALENDAR