BEGIN:VCALENDAR
VERSION:2.0
PRODID:-//ERT//LNF26//DE
VERSION:2.0
BEGIN:VEVENT
UID:station_5599_20260324T160000Z
DTSTAMP:20260424T151900Z
URL:https://ert.langenachtderforschung.at/station/5599
DTSTART:20260324T160000Z
DTEND:20260424T200000Z
SUMMARY:[LNF26] Laparoskopie in der Urologie – Operationen durchs Schlüsselloch
DESCRIPTION:An sechs Arbeitsplätzen sollen die Gäste die Möglichkeit bekommen, selbst zu laparoskopieren. Man kann präparieren, schneiden und auch wieder zunähen.
LOCATION:Förthofstraße 2 - 4, 3500 Krems-Stein
GEO:48.39900976;15.57130158
END:VEVENT
END:VCALENDAR