BEGIN:VCALENDAR
VERSION:2.0
PRODID:-//ERT//LNF26//DE
VERSION:2.0
BEGIN:VEVENT
UID:station_5601_20260324T160000Z
DTSTAMP:20260422T192000Z
URL:https://ert.langenachtderforschung.at/station/5601
DTSTART:20260324T160000Z
DTEND:20260424T203000Z
SUMMARY:[LNF26] Wie gut kennst du die 17 Entwicklungsziele (SDGs)? - Das SDG Glücksrad
DESCRIPTION:Das SGD Glücksrad ist ein Quiz mit Fragen zu den 17 Sustainable Development Goals (SDG) des UN Global Compact. Zu jedem der 17 SDGs stehen Fragen, passend zu den verschiedenen Themenkreisen der nachhaltigen Studiengänge der Fachhochschule, zur Verfügung. Bei richtiger Beantwortung von drei Fragen erhalten Sie einen kleinen Preis.
LOCATION:Zeiselgraben 4, 3250 Wieselburg
GEO:48.13899125;15.13896838
END:VEVENT
END:VCALENDAR