BEGIN:VCALENDAR
VERSION:2.0
PRODID:-//ERT//LNF26//DE
VERSION:2.0
BEGIN:VEVENT
UID:station_5682_20260324T160000Z
DTSTAMP:20260422T212300Z
URL:https://ert.langenachtderforschung.at/station/5682
DTSTART:20260324T160000Z
DTEND:20260424T204500Z
SUMMARY:[LNF26] Entdecken Sie die faszinierende Welt der Kleinstsatelliten – Forschung hautnah erleben!
DESCRIPTION:Tauchen Sie ein in die spannende Welt der Kleinsatelliten! Im ESA-Lab@Austria können Sie hautnah erleben, wie Studierende Satellitentechnologie und CubeSats entwickeln, fertigen und testen – direkt an der Schnittstelle von Forschung und Weltraumtechnik. Entdecken Sie, wie groß die Welt der kleinen Satelliten wirklich ist!
LOCATION:Johannes-Gutenberg-Straße 3 Innovation Lab und Area27 (J. Gutenberg-Straße 5), 2700 Wiener Neustadt
GEO:47.83811166;16.24962151
END:VEVENT
END:VCALENDAR