BEGIN:VCALENDAR
VERSION:2.0
PRODID:-//ERT//LNF26//DE
VERSION:2.0
BEGIN:VEVENT
UID:station_5758_20260324T160000Z
DTSTAMP:20260421T135400Z
URL:https://ert.langenachtderforschung.at/station/5758
DTSTART:20260324T160000Z
DTEND:20260424T210000Z
SUMMARY:[LNF26] Klimastress im Wald: Was können uns Jahrringe und Böden erzählen?
DESCRIPTION:Was uns die Bäume erzählen: Bohrkernwerben an einer Stammscheibe, einen Zuwachsbohrkern unter dem Mikroskop untersuchen und über Strategien von Bäumen bei Trockenheit erfahren.\nWas der Boden alles kann: Bodenleben unter dem Mikroskop entdecken und Bodentextur selbst bestimmen.
LOCATION:Konrad Lorenz Straße 24, 3430 Tulln
GEO:48.32077312;16.06863138
END:VEVENT
END:VCALENDAR