BEGIN:VCALENDAR
VERSION:2.0
PRODID:-//ERT//LNF26//DE
VERSION:2.0
BEGIN:VEVENT
UID:station_5759_20260324T160000Z
DTSTAMP:20260421T135400Z
URL:https://ert.langenachtderforschung.at/station/5759
DTSTART:20260324T160000Z
DTEND:20260424T210000Z
SUMMARY:[LNF26] RoboCode: Hast du schon mal deine Eltern programmiert?
DESCRIPTION:Spielt Jenga mit einem Cobot und entdeckt, wie digitale Holzverarbeitung funktioniert! Außerdem könnt ihr eure Eltern oder Geschwister zu Robotern machen: Mit Stempel und Farbe druckt ihr den „Programmiercode“ auf Papier und gebt ihn dann dem Roboter. Schafft ihr es gemeinsam durchs Spielfeld ins Ziel, ohne rauszufallen?
LOCATION:Konrad Lorenz Straße 24, 3430 Tulln
GEO:48.32077312;16.06863138
END:VEVENT
END:VCALENDAR