BEGIN:VCALENDAR
VERSION:2.0
PRODID:-//ERT//LNF26//DE
VERSION:2.0
BEGIN:VEVENT
UID:station_5764_20260324T160000Z
DTSTAMP:20260421T135200Z
URL:https://ert.langenachtderforschung.at/station/5764
DTSTART:20260324T160000Z
DTEND:20260424T210000Z
SUMMARY:[LNF26] Der Wolf im Zebrapelz – Was macht das Raubtier im Blühstreifen?
DESCRIPTION:In Afrika werden Zebras von Löwen gejagt. Im Marchfeld sind Zebrathripse die Jäger. Ihre Beute: Schädlinge auf Gemüsepflanzen, z.B. der Zwiebelthrips. Der Appetizer, der sie fit macht: Blütenpollen. Welche Pflanzen bieten diesen Raubtieren den besten Pollen? Können wir diese Pflanzen in Blühstreifen am Acker anbauen, damit Zebrathripse die Ernte schützen helfen? Das erforschen wir am Institut für Pflanzenschutz.
LOCATION:Konrad Lorenz Straße 24, 3430 Tulln
GEO:48.32077312;16.06863138
END:VEVENT
END:VCALENDAR