BEGIN:VCALENDAR
VERSION:2.0
PRODID:-//ERT//LNF26//DE
VERSION:2.0
BEGIN:VEVENT
UID:station_5765_20260324T160000Z
DTSTAMP:20260420T051900Z
URL:https://ert.langenachtderforschung.at/station/5765
DTSTART:20260324T160000Z
DTEND:20260424T200000Z
SUMMARY:[LNF26] Seifenblasenforschung: Welche Zutaten ergeben die besten Riesenseifenblasen?
DESCRIPTION:Seifenblasen faszinieren immer. Riesenseifenblasen noch mehr. Erstelle, teste und vergleiche Riesenseifenblasenrezepte: Welches Spülmittel funktioniert am besten? Ist Guarkernmehl oder Kleister das Verdickungsmittel der Wahl? Viel hilft viel, oder doch nicht? Wozu dienen die einzelnen Zutaten? Die Seifenblasen Lösungen werden miteinander verglichen und bewertet – jeder trägt so seinen Teil zum Forschungsergebnis bei.
LOCATION:Frauentorgasse 72-74, 3430 Tulln
GEO:48.31857600;16.05586298
END:VEVENT
END:VCALENDAR