BEGIN:VCALENDAR
VERSION:2.0
PRODID:-//ERT//LNF26//DE
VERSION:2.0
BEGIN:VEVENT
UID:station_5766_20260324T160000Z
DTSTAMP:20260422T214300Z
URL:https://ert.langenachtderforschung.at/station/5766
DTSTART:20260324T160000Z
DTEND:20260424T200000Z
SUMMARY:[LNF26] Observatorium Darth Science
DESCRIPTION:Das Observatorium des Vereines „Darth Science“ befindet sich in Wiesmath, in der Buckligen Welt. Der Verein „Darth Science“ hat sich die Förderung der Bildung von Kindern und Jugendlichen zum Ziel gemacht. Die Besichtigung des Observatoriums, Beobachtungsabende sowie die Aufnahme von Objekten wurden Schülerinnen und Schülern bereits ermöglicht und wird dies auch in Zukunft der Fall sein.
LOCATION:Johannes-Gutenberg-Straße 3 Innovation Lab und Area27 (J. Gutenberg-Straße 5), 2700 Wiener Neustadt
GEO:47.83811166;16.24962151
END:VEVENT
END:VCALENDAR