BEGIN:VCALENDAR
VERSION:2.0
PRODID:-//ERT//LNF26//DE
VERSION:2.0
BEGIN:VEVENT
UID:station_5770_20260324T160000Z
DTSTAMP:20260422T192700Z
URL:https://ert.langenachtderforschung.at/station/5770
DTSTART:20260324T160000Z
DTEND:20260424T203000Z
SUMMARY:[LNF26] IT-Sicherheit zum Anfassen
DESCRIPTION:An dieser Mitmachstation wird live gezeigt, wie alltägliche digitale Systeme unter bestimmten Bedingungen angreifbar sind – etwa durch unsichere Gerätekonfigurationen, manipulierte USB-Devices, die Sicherheit von Schlüsselkarten oder kompromittierte Passwörter. In einer sicheren Testumgebung erfahren Sie, wie solche Angriffe funktionieren und welche Maßnahmen wirksam davor schützen.
LOCATION:Zeiselgraben 4, 3250 Wieselburg
GEO:48.13899125;15.13896838
END:VEVENT
END:VCALENDAR