BEGIN:VCALENDAR
VERSION:2.0
PRODID:-//ERT//LNF26//DE
VERSION:2.0
BEGIN:VEVENT
UID:station_5772_20260324T160000Z
DTSTAMP:20260420T003100Z
URL:https://ert.langenachtderforschung.at/station/5772
DTSTART:20260324T160000Z
DTEND:20260424T210000Z
SUMMARY:[LNF26] Wie komme ich ohne Rakete ins Weltall?
DESCRIPTION:Wolltest du immer schon mal zu den Sternen reisen? In die unendlichen Weiten des Weltalls eintauchen? Aber dann war es dir doch zu teuer oder zu gefährlich? Wir haben die Lösung! Bei uns kannst du die Reise machen – ganz gemütlich aus der Kronesgasse und mit einer Virtual Reality-Brille auf der Nase. Umrunde die Erde, flieg zum Saturn und schau dir den Jupiter aus der Nähe an.
LOCATION:Kronesgasse 5, 8010 Graz
GEO:47.06563440;15.44865650
END:VEVENT
END:VCALENDAR