BEGIN:VCALENDAR
VERSION:2.0
PRODID:-//ERT//LNF26//DE
VERSION:2.0
BEGIN:VEVENT
UID:station_5795_20260324T160000Z
DTSTAMP:20260424T102600Z
URL:https://ert.langenachtderforschung.at/station/5795
DTSTART:20260324T160000Z
DTEND:20260424T203000Z
SUMMARY:[LNF26] Zivilschutzverband - Weißt du alles über Krisenvorsorge und präventiven Zivilschutz?
DESCRIPTION:Vorstellung von modernen Methoden der Krisenprävention für Haushalte und Behörden. Informationen für  Haushalte über Krisenbevorratung, Notfallplanung und Resilenz im Krisen- und Katastrophenfall.
LOCATION:Viktor Kaplan Strasse 2 TFZ, 2700 Wiener Neustadt
GEO:47.83725022;16.25247860
END:VEVENT
END:VCALENDAR