BEGIN:VCALENDAR
VERSION:2.0
PRODID:-//ERT//LNF26//DE
VERSION:2.0
BEGIN:VEVENT
UID:station_5826_20260324T160000Z
DTSTAMP:20260424T134700Z
URL:https://ert.langenachtderforschung.at/station/5826
DTSTART:20260324T160000Z
DTEND:20260424T210000Z
SUMMARY:[LNF26] Wie kann ich durch passiven Hochwasserschutz und pflanzenverfügbares Regenwassermanagement den Auswirkungen von Starkregenereignissen und Trockenheit entgegenwirken?
DESCRIPTION:Was passiert mit Regenwasser in der Stadt? Warum ist es wichtig, Wasser nicht einfach in den Kanal zu leiten? Bei dieser Mitmachstation erforschen Kinder und Jugendliche, wie wir mit innovativen Ideen wie Begrünung und Regenwasserspeicherung unsere Umwelt schützen. Spannende Experimente und Modelle zeigen, wie Regentropfen Leben retten können!
LOCATION:Dr. Karl-Dorrek-Straße 30, 3500 Krems
GEO:48.40830956;15.58515436
END:VEVENT
END:VCALENDAR