BEGIN:VCALENDAR
VERSION:2.0
PRODID:-//ERT//LNF26//DE
VERSION:2.0
BEGIN:VEVENT
UID:station_5827_20260324T160000Z
DTSTAMP:20260424T134700Z
URL:https://ert.langenachtderforschung.at/station/5827
DTSTART:20260324T160000Z
DTEND:20260424T210000Z
SUMMARY:[LNF26] Kann man mit der Natur ein Haus bauen?
DESCRIPTION:Das Innovationsnetzwerk natuREbuilt forscht zu ökologischen Baustoffen und ihren Einsatzmöglichkeiten im mehrgeschoßigen Wohnbau. Vom Greifen zum Begreifen: lerne ökologische Materialien und Baustoffe kennen und erfahre, wie man diese im Hausbau einsetzen kann!
LOCATION:Dr. Karl-Dorrek-Straße 30, 3500 Krems
GEO:48.40830956;15.58515436
END:VEVENT
END:VCALENDAR