BEGIN:VCALENDAR
VERSION:2.0
PRODID:-//ERT//LNF26//DE
VERSION:2.0
BEGIN:VEVENT
UID:station_5856_20260324T160000Z
DTSTAMP:20260420T051900Z
URL:https://ert.langenachtderforschung.at/station/5856
DTSTART:20260324T160000Z
DTEND:20260424T200000Z
SUMMARY:[LNF26] Was macht ein 3D-Drucker?
DESCRIPTION:Im accent Makerspace wird Prototyping erlebbar. An dieser Mitmachstation zeigen wir, was 3D-Druck kann und wie ein 3D-Drucker bedient wird. Besucher:innen entdecken 3D-gedruckte mechanische Modelle und bionische Konstruktionen zum Angreifen und erhalten Einblicke, wie Start-ups bei der Entwicklung ihrer Erfindungen unterstützt werden.
LOCATION:Frauentorgasse 72-74, 3430 Tulln
GEO:48.31857600;16.05586298
END:VEVENT
END:VCALENDAR