BEGIN:VCALENDAR
VERSION:2.0
PRODID:-//ERT//LNF26//DE
VERSION:2.0
BEGIN:VEVENT
UID:station_5877_20260424T170000Z
DTSTAMP:20260423T160100Z
URL:https://ert.langenachtderforschung.at/station/5877
DTSTART:20260424T170000Z
DTEND:20260424T180000Z
SUMMARY:[LNF26] VISTA: Meet the Scientist
DESCRIPTION:Im VISTA Science Experience Center erzählen wir Geschichten über die Forschung am ISTA, die Prozesse und die Menschen dahinter. In diesem Sinne bieten wir die Führung „Meet the Scientist“ an, bei der Sie tief in die wissenschaftliche Arbeit unseres Instituts eintauchen und die Ausstellung „Science in the Making“ aus der Perspektive von Wissenschafter:innen erleben können.
LOCATION:Am Campus 1, 3400 Klosterneuburg
GEO:48.31000011;16.25918412
END:VEVENT
END:VCALENDAR