BEGIN:VCALENDAR
VERSION:2.0
PRODID:-//ERT//LNF26//DE
VERSION:2.0
BEGIN:VEVENT
UID:station_5887_20260324T160000Z
DTSTAMP:20260424T102500Z
URL:https://ert.langenachtderforschung.at/station/5887
DTSTART:20260324T160000Z
DTEND:20260424T200000Z
SUMMARY:[LNF26] Laser: ein Lichtstrahl mit Folgen
DESCRIPTION:Was harmlos wirkt, kann gefährlich sein: Laserpointer und Hochleistungslaser können Pilot:innen, Einsatzkräfte und medizinisches Personal ernsthaft gefährden. In einem gemeinsamen Forschungsprojekt von Militär und Universitätsklinik wird untersucht, wie Laserlicht auf das Auge wirkt, welche Risiken im Flugverkehr entstehen und wie Schutzmaßnahmen Leben sichern können.
LOCATION:Viktor Kaplan Strasse 2 TFZ, 2700 Wiener Neustadt
GEO:47.83725022;16.25247860
END:VEVENT
END:VCALENDAR