BEGIN:VCALENDAR
VERSION:2.0
PRODID:-//ERT//LNF26//DE
VERSION:2.0
BEGIN:VEVENT
UID:station_5888_20260324T160000Z
DTSTAMP:20260424T085900Z
URL:https://ert.langenachtderforschung.at/station/5888
DTSTART:20260324T160000Z
DTEND:20260424T200000Z
SUMMARY:[LNF26] Baby on Board - sicher durch den Notfall
DESCRIPTION:Die Lifebox schützt Säuglinge bei Evakuierungen vor Rauch, Hitze und Lärm. Sie ermöglicht den sicheren und schnellen Transport der Kleinsten, wenn in Krankenhäusern oder anderen Einrichtungen ein Notfall eintritt.
LOCATION:Viktor Kaplan Strasse 2 TFZ, 2700 Wiener Neustadt
GEO:47.83725022;16.25247860
END:VEVENT
END:VCALENDAR