BEGIN:VCALENDAR
VERSION:2.0
PRODID:-//ERT//LNF26//DE
VERSION:2.0
BEGIN:VEVENT
UID:station_5891_20260324T160000Z
DTSTAMP:20260424T102700Z
URL:https://ert.langenachtderforschung.at/station/5891
DTSTART:20260324T160000Z
DTEND:20260424T200000Z
SUMMARY:[LNF26] Emotion im Blick – Die Black Box des Handelns
DESCRIPTION:Soziale Berufe arbeiten nicht nur mit Zahlen, Daten und Fakten – sie arbeiten mit Menschen und Emotionen. Die „Black Box Emotion“ macht diese unsichtbare Ebene für die Besucherinnen und Besucher der Langen Nacht der Forschung erlebbar.
LOCATION:Viktor Kaplan Strasse 2 TFZ, 2700 Wiener Neustadt
GEO:47.83725022;16.25247860
END:VEVENT
END:VCALENDAR