BEGIN:VCALENDAR
VERSION:2.0
PRODID:-//ERT//LNF26//DE
VERSION:2.0
BEGIN:VEVENT
UID:station_5892_20260324T160000Z
DTSTAMP:20260424T102500Z
URL:https://ert.langenachtderforschung.at/station/5892
DTSTART:20260324T160000Z
DTEND:20260424T200000Z
SUMMARY:[LNF26] Wissen im Blick – Forschung to go
DESCRIPTION:Hier werden Besucher:innen selbst Teil der Forschung. Per QR-Code nehmen sie an einer kurzen Befragung teil und sehen die Ergebnisse sofort. So wird Forschung direkt erlebbar. Die Forschungsmethode der Befragung wird auch in der Pflegeforschung des Universitätsklinikums Wiener Neustadt etwa bei Studien zu Demenz eingesetzt.
LOCATION:Viktor Kaplan Strasse 2 TFZ, 2700 Wiener Neustadt
GEO:47.83725022;16.25247860
END:VEVENT
END:VCALENDAR